BEGIN:VCALENDAR
VERSION:2.0
PRODID:-//Plone.org//NONSGML plone.app.event//EN
X-WR-TIMEZONE:Europe/Rome
BEGIN:VEVENT
SUMMARY:Seminario del Prof. Luigi Fabbrizi sulla pila di Volta
DTSTART;TZID=Europe/Rome;VALUE=DATE-TIME:20190515T150000
DTEND;TZID=Europe/Rome;VALUE=DATE-TIME:20190515T160000
DTSTAMP;VALUE=DATE-TIME:20260422T124905Z
UID:db6a2c18057944d18dffed505c0f2ea7@chimica.unibo.it
CREATED;VALUE=DATE-TIME:20190509T064642Z
LAST-MODIFIED;VALUE=DATE-TIME:20190509T064726Z
URL:https://chimica.unibo.it/it/eventi/seminario-del-prof.-luigi-fabbrizi-
 sulla-pila-di-volta
END:VEVENT
BEGIN:VTIMEZONE
TZID:Europe/Rome
X-LIC-LOCATION:Europe/Rome
BEGIN:DAYLIGHT
DTSTART;VALUE=DATE-TIME:20190331T030000
TZNAME:CEST
TZOFFSETFROM:+0100
TZOFFSETTO:+0200
END:DAYLIGHT
END:VTIMEZONE
END:VCALENDAR
